BEGIN:VCALENDAR
VERSION:2.0
PRODID:-//Behavioural Finance Working Group - ECPv6.15.12.1//NONSGML v1.0//EN
CALSCALE:GREGORIAN
METHOD:PUBLISH
X-WR-CALNAME:Behavioural Finance Working Group
X-ORIGINAL-URL:https://www.behaviouralfinance.org
X-WR-CALDESC:Events for Behavioural Finance Working Group
REFRESH-INTERVAL;VALUE=DURATION:PT1H
X-Robots-Tag:noindex
X-PUBLISHED-TTL:PT1H
BEGIN:VTIMEZONE
TZID:Europe/London
BEGIN:DAYLIGHT
TZOFFSETFROM:+0000
TZOFFSETTO:+0100
TZNAME:BST
DTSTART:20250330T010000
END:DAYLIGHT
BEGIN:STANDARD
TZOFFSETFROM:+0100
TZOFFSETTO:+0000
TZNAME:GMT
DTSTART:20251026T010000
END:STANDARD
BEGIN:DAYLIGHT
TZOFFSETFROM:+0000
TZOFFSETTO:+0100
TZNAME:BST
DTSTART:20260329T010000
END:DAYLIGHT
BEGIN:STANDARD
TZOFFSETFROM:+0100
TZOFFSETTO:+0000
TZNAME:GMT
DTSTART:20261025T010000
END:STANDARD
BEGIN:DAYLIGHT
TZOFFSETFROM:+0000
TZOFFSETTO:+0100
TZNAME:BST
DTSTART:20270328T010000
END:DAYLIGHT
BEGIN:STANDARD
TZOFFSETFROM:+0100
TZOFFSETTO:+0000
TZNAME:GMT
DTSTART:20271031T010000
END:STANDARD
END:VTIMEZONE
BEGIN:VEVENT
DTSTART;TZID=Europe/London:20260603T080000
DTEND;TZID=Europe/London:20260605T170000
DTSTAMP:20260421T120109
CREATED:20260408T173837Z
LAST-MODIFIED:20260408T174438Z
UID:2719-1780473600-1780678800@www.behaviouralfinance.org
SUMMARY:21st International Behavioural Finance Conference
DESCRIPTION:21st International Behavioural Finance Conference\n\n\n\nFor two decades\, IBFC has brought together a vibrant international community of scholars and practitioners working at the intersection of finance\, economics\, psychology\, behavioural science\, and data-driven research. The 2026 London edition continues this tradition\, offering a stimulating forum for presenting high-quality research and engaging in rich intellectual exchange.
URL:https://www.behaviouralfinance.org/conference/21st-international-behavioural-finance-conference/
ATTACH;FMTTYPE=image/png:https://www.behaviouralfinance.org/wp-content/uploads/2026/04/Screenshot-2026-04-08-at-18.41.26-scaled.png
END:VEVENT
END:VCALENDAR